BEGIN:VCALENDAR
VERSION:2.0
PRODID:-//HKAPI - ECPv5.3.0//NONSGML v1.0//EN
CALSCALE:GREGORIAN
METHOD:PUBLISH
X-WR-CALNAME:HKAPI
X-ORIGINAL-URL:https://www.hkapi.hk
X-WR-CALDESC:Events for HKAPI
BEGIN:VTIMEZONE
TZID:Asia/Hong_Kong
BEGIN:STANDARD
TZOFFSETFROM:+0800
TZOFFSETTO:+0800
TZNAME:HKT
DTSTART:20220101T000000
END:STANDARD
END:VTIMEZONE
BEGIN:VEVENT
DTSTART;TZID=Asia/Hong_Kong:20220120T150000
DTEND;TZID=Asia/Hong_Kong:20220120T163000
DTSTAMP:20260420T031106
CREATED:20220103T030355Z
LAST-MODIFIED:20220103T033025Z
UID:11259-1642690800-1642696200@www.hkapi.hk
SUMMARY:Prevention of Bribery Ordinance with examples of industry operation
DESCRIPTION:Dear member\, \nHKAPI HR Committee invited the Hong Kong Business Ethics Development Centre (HKBEC)\, Hong Kong Independent Commission Against Corruption (ICAC) to give us a webinar on 20 January 2022.  The content of the webinar would include the anti-corruption laws and the potential risks in our daily life.  Details are listed below for your information. \nWebinar on Prevention of Bribery Ordinance with examples of industry operations by ICAC \nObjectives: \n\nEnhance participants’ understanding of the importance of professional ethics;\nEquip the participants with the necessary legal knowledge and practical skills on the relevant sections of Prevention of Bribery Ordinance;\nRaise participants’ awareness of the corruption risks and related malpractices in the industries concerned; and\nEncourage participants to put professional ethics into practice.\n\nLogistics details: \n\n\n\nDate:\n20 January 2022 (Thursday)\n\n\nTime:\n3:00pm- 4:30pm\n\n\nLanguage:\nCantonese\n\n\nFee:\nFree of charges\n\n\nTarget:\nAnyone who would like to understand the Prevention of Bribery Ordinance and acquire skills to identify the corruption risks.\n\n\nFormat:\nVia ZOOM
URL:https://www.hkapi.hk/event/prevention-of-bribery-ordinance-with-examples-of-industry-operation/
LOCATION:Virtual Meeting
CATEGORIES:Member's only
ATTACH;FMTTYPE=image/jpeg:https://www.hkapi.hk/wp-content/uploads/2022/01/Blue-and-Red-72x36-Landscape-Voter-Education-Campaign-Banner-1-min-scaled.jpg
END:VEVENT
END:VCALENDAR